BEGIN:VCALENDAR
VERSION:2.0
PRODID:-//On Trial Associates, Inc. - ECPv6.15.11//NONSGML v1.0//EN
CALSCALE:GREGORIAN
METHOD:PUBLISH
X-WR-CALNAME:On Trial Associates, Inc.
X-ORIGINAL-URL:https://ontrialassociates.com
X-WR-CALDESC:Events for On Trial Associates, Inc.
REFRESH-INTERVAL;VALUE=DURATION:PT1H
X-Robots-Tag:noindex
X-PUBLISHED-TTL:PT1H
BEGIN:VTIMEZONE
TZID:America/Halifax
BEGIN:DAYLIGHT
TZOFFSETFROM:-0400
TZOFFSETTO:-0300
TZNAME:ADT
DTSTART:20250309T060000
END:DAYLIGHT
BEGIN:STANDARD
TZOFFSETFROM:-0300
TZOFFSETTO:-0400
TZNAME:AST
DTSTART:20251102T050000
END:STANDARD
BEGIN:DAYLIGHT
TZOFFSETFROM:-0400
TZOFFSETTO:-0300
TZNAME:ADT
DTSTART:20260308T060000
END:DAYLIGHT
BEGIN:STANDARD
TZOFFSETFROM:-0300
TZOFFSETTO:-0400
TZNAME:AST
DTSTART:20261101T050000
END:STANDARD
BEGIN:DAYLIGHT
TZOFFSETFROM:-0400
TZOFFSETTO:-0300
TZNAME:ADT
DTSTART:20270314T060000
END:DAYLIGHT
BEGIN:STANDARD
TZOFFSETFROM:-0300
TZOFFSETTO:-0400
TZNAME:AST
DTSTART:20271107T050000
END:STANDARD
END:VTIMEZONE
BEGIN:VEVENT
DTSTART;VALUE=DATE:20260413
DTEND;VALUE=DATE:20260602
DTSTAMP:20260422T071229
CREATED:20260216T153028Z
LAST-MODIFIED:20260216T153028Z
UID:4594-1776038400-1780358399@ontrialassociates.com
SUMMARY:Acting for Lawyers™  Spring 2026
DESCRIPTION:Our next Acting for Lawyers™ class in begins in 2026! Registration is limited so reserve your spot today. \n  \nWhere: Spooky Action Theater 1810 16th St NW\, Washington\, DC \n  \nWhen: 8 Monday Evenings from 7:00– 9:45pm April 13th to June 1st (Class May 25th will be on Tuesday May 26th) \n  \nWhat: An exciting introduction to the Acting for Lawyers™ method for improving your public speaking and oral advocacy skills through acting exercises that help you overcome stage fright\, speak compellingly and connect viscerally with your audience. \n  \nEmail Gillian Drake to register: gillian@ontrialassociates.com \n 
URL:https://ontrialassociates.com/event/acting-for-lawyers-spring-2026/
END:VEVENT
END:VCALENDAR